BEGIN:VCALENDAR
VERSION:2.0
PRODID:-//Verdadeiro Olhar - ECPv5.8.0//NONSGML v1.0//EN
CALSCALE:GREGORIAN
METHOD:PUBLISH
X-WR-CALNAME:Verdadeiro Olhar
X-ORIGINAL-URL:https://www.verdadeiroolhar.pt
X-WR-CALDESC:Events for Verdadeiro Olhar
BEGIN:VTIMEZONE
TZID:UTC
BEGIN:STANDARD
TZOFFSETFROM:+0000
TZOFFSETTO:+0000
TZNAME:UTC
DTSTART:20160101T000000
END:STANDARD
END:VTIMEZONE
BEGIN:VEVENT
DTSTART;TZID=UTC:20160106T143000
DTEND;TZID=UTC:20160106T155000
DTSTAMP:20260425T104730
CREATED:20151229T155537Z
LAST-MODIFIED:20151229T155537Z
UID:3253-1452090600-1452095400@www.verdadeiroolhar.pt
SUMMARY:Cinema de animação "7.º anão - o pequeno herói"
DESCRIPTION:Duração: 84 minutos\nVersão: falado em português\nAtividade sujeita a marcação prévia
URL:https://www.verdadeiroolhar.pt/evento/cinema-de-animacao-7-o-anao-o-pequeno-heroi/
LOCATION:Biblioteca Municipal de Penafiel\, Avenida Egas Moniz\, Penafiel\, Portugal
CATEGORIES:Cultura
END:VEVENT
END:VCALENDAR