BEGIN:VCALENDAR
VERSION:2.0
PRODID:-//Verdadeiro Olhar - ECPv5.8.0//NONSGML v1.0//EN
CALSCALE:GREGORIAN
METHOD:PUBLISH
X-WR-CALNAME:Verdadeiro Olhar
X-ORIGINAL-URL:https://www.verdadeiroolhar.pt
X-WR-CALDESC:Events for Verdadeiro Olhar
BEGIN:VTIMEZONE
TZID:UTC
BEGIN:STANDARD
TZOFFSETFROM:+0000
TZOFFSETTO:+0000
TZNAME:UTC
DTSTART:20180101T000000
END:STANDARD
END:VTIMEZONE
BEGIN:VEVENT
DTSTART;TZID=UTC:20180412T213000
DTEND;TZID=UTC:20180412T230000
DTSTAMP:20260423T155923
CREATED:20180403T115309Z
LAST-MODIFIED:20180403T115309Z
UID:38135-1523568600-1523574000@www.verdadeiroolhar.pt
SUMMARY:Cinco Filmes . Saúde com “Eu\, Daniel Blake”
DESCRIPTION:A CESPU através da Escola Superior de Saúde do Vale do Sousa\, Pólo IINFACTS – Penafiel\, e o Museu Municipal de Penafiel voltam a associar-se para a 2.ª edição do Cinco Filmes. Saúde\, um ciclo de cinema dedicado à área da saúde. \nNo final de cada sessão\, um grupo de especialistas debaterá o tema do filme e o seu impacto na saúde das populações. \nO primeiro filme será exibido no Museu Municipal de Penafiel no dia 12 de Abril\, pelas 21h30\, e terá como temática o “Suporte Social: encontros e desencontros na sociedade”. \nTrata-se do filme “Eu\, Daniel Blake”\, de Ken Loach. A entrada é gratuita.
URL:https://www.verdadeiroolhar.pt/evento/cinco-filmes-saude-com-eu-daniel-blake/
LOCATION:Museu Municipal de Penafiel\, R. do Paço\, Penafiel\, 4560-485\, Portugal
CATEGORIES:Cultura,Eventos Públicos
ATTACH;FMTTYPE=image/jpeg:https://www.verdadeiroolhar.pt/wp-content/uploads/2018/04/I_Daniel_Blake.jpg
END:VEVENT
END:VCALENDAR