BEGIN:VCALENDAR
VERSION:2.0
PRODID:-//Verdadeiro Olhar - ECPv5.8.0//NONSGML v1.0//EN
CALSCALE:GREGORIAN
METHOD:PUBLISH
X-WR-CALNAME:Verdadeiro Olhar
X-ORIGINAL-URL:https://www.verdadeiroolhar.pt
X-WR-CALDESC:Events for Verdadeiro Olhar
BEGIN:VTIMEZONE
TZID:UTC
BEGIN:STANDARD
TZOFFSETFROM:+0000
TZOFFSETTO:+0000
TZNAME:UTC
DTSTART:20180101T000000
END:STANDARD
END:VTIMEZONE
BEGIN:VEVENT
DTSTART;VALUE=DATE:20180324
DTEND;VALUE=DATE:20180326
DTSTAMP:20260422T170927
CREATED:20180306T121401Z
LAST-MODIFIED:20180306T121401Z
UID:36303-1521849600-1522022399@www.verdadeiroolhar.pt
SUMMARY:Chocolate no Parque em Lousada
DESCRIPTION:Está marcada para 24 e 25 de Março mais uma edição da iniciativa Chocolate no Parque\, em Lousada. \nO certame tem como palco o Parque Urbano Dr. Mário Fonseca e envolve venda\, degustação e workshops de chocolate. Inclui ainda música e animação. \nNo mesmo evento é eleito o “Melhor Bolo de Chocolate de Lousada”.
URL:https://www.verdadeiroolhar.pt/evento/chocolate-no-parque-lousada-2/
LOCATION:Parque Urbano Dr. Mário Fonseca\, Avenida Amílcar Neto\, Lousada
ATTACH;FMTTYPE=image/jpeg:https://www.verdadeiroolhar.pt/wp-content/uploads/2018/03/Chocolate-no-Parque.jpg
END:VEVENT
END:VCALENDAR