BEGIN:VCALENDAR
VERSION:2.0
PRODID:-//Verdadeiro Olhar - ECPv5.8.0//NONSGML v1.0//EN
CALSCALE:GREGORIAN
METHOD:PUBLISH
X-WR-CALNAME:Verdadeiro Olhar
X-ORIGINAL-URL:https://www.verdadeiroolhar.pt
X-WR-CALDESC:Events for Verdadeiro Olhar
BEGIN:VTIMEZONE
TZID:UTC
BEGIN:STANDARD
TZOFFSETFROM:+0000
TZOFFSETTO:+0000
TZNAME:UTC
DTSTART:20160101T000000
END:STANDARD
END:VTIMEZONE
BEGIN:VEVENT
DTSTART;TZID=UTC:20161016T110000
DTEND;TZID=UTC:20161016T130000
DTSTAMP:20260425T180422
CREATED:20161011T155929Z
LAST-MODIFIED:20161011T155929Z
UID:14305-1476615600-1476622800@www.verdadeiroolhar.pt
SUMMARY:“Cantigas Pequeninas\, Fadas Verdes e Versos para Embalar o Mar” na Casa da Cultura
DESCRIPTION:No próximo dia 16 de Outubro\, o Auditório da Casa da Cultura de Paredes recebe\, pelas 11h00\, a performance “Cantigas Pequeninas\, Fadas Verdes e Versos para Embalar o Mar”\, no âmbito do Programa Famílias. \nMatilde Rosa Araújo é uma das escritoras portuguesas que mais marcou a literatura infantil nacional. O seu legado está patente no longo rol de títulos que marcam gerações. Cantigas Pequeninas\, Fadas Verdes e Versos para Embalar o Mar reúne textos e poemas de dois dos seus livros mais premiados – Fadas Verdes (1994) e O Livro da Tila (1957). \n“O colectivo O Som do Algodão resgata esta manta de retalhos preenchida de sonhos e poesia para apresentar uma performance poética encantada\, onde as palavras e os sons tecem uma teia de cumplicidade com o público”\, refere a Câmara Municipal. \nA entrada custa quatro euros\, sendo o público-alvo crianças a partir dos três anos. A actividade só se realizará com o mínimo de 15 pessoas.
URL:https://www.verdadeiroolhar.pt/evento/cantigas-pequeninas-fadas-verdes-versos-embalar-mar-na-casa-da-cultura/
LOCATION:Casa da Cultura de Paredes\, Avenida da República\, Paredes\, 4580-193
CATEGORIES:Cultura
ATTACH;FMTTYPE=image/jpeg:https://www.verdadeiroolhar.pt/wp-content/uploads/2016/10/Cartaz_MarianaCópia.jpg
END:VEVENT
END:VCALENDAR