BEGIN:VCALENDAR
VERSION:2.0
PRODID:-//Verdadeiro Olhar - ECPv5.8.0//NONSGML v1.0//EN
CALSCALE:GREGORIAN
METHOD:PUBLISH
X-WR-CALNAME:Verdadeiro Olhar
X-ORIGINAL-URL:https://www.verdadeiroolhar.pt
X-WR-CALDESC:Events for Verdadeiro Olhar
BEGIN:VTIMEZONE
TZID:UTC
BEGIN:STANDARD
TZOFFSETFROM:+0000
TZOFFSETTO:+0000
TZNAME:UTC
DTSTART:20180101T000000
END:STANDARD
END:VTIMEZONE
BEGIN:VEVENT
DTSTART;TZID=UTC:20180425T090000
DTEND;TZID=UTC:20180425T120000
DTSTAMP:20260424T062604
CREATED:20180404T150011Z
LAST-MODIFIED:20180404T150011Z
UID:38249-1524646800-1524657600@www.verdadeiroolhar.pt
SUMMARY:Caminhada em Vilar do Torno e Alentém\, Lousada
DESCRIPTION:Lousada continua\, em Abril\, o Programa Municipal de Caminhadas com uma Caminhada em Vilar do Torno e Alentém\, designada “Pequenos Passos\, Grandes Gestos”\, no dia 25\, a partir das 9h00. \nExistem dois percursos\, um longo com cinco quilómetros e um curto com 1\,5 quilómetros. A inscrição custa 1\,5 euros.
URL:https://www.verdadeiroolhar.pt/evento/caminhada-vilar-do-torno-alentem-lousada/
LOCATION:Vilar do Torno e Alentém\, Lousada
CATEGORIES:Desporto,Eventos Públicos
ATTACH;FMTTYPE=image/jpeg:https://www.verdadeiroolhar.pt/wp-content/uploads/2017/12/Programa-Municipal-de-Caminhadas-de-Lousada-2.jpg
END:VEVENT
END:VCALENDAR