BEGIN:VCALENDAR
VERSION:2.0
PRODID:-//Verdadeiro Olhar - ECPv5.8.0//NONSGML v1.0//EN
CALSCALE:GREGORIAN
METHOD:PUBLISH
X-WR-CALNAME:Verdadeiro Olhar
X-ORIGINAL-URL:https://www.verdadeiroolhar.pt
X-WR-CALDESC:Events for Verdadeiro Olhar
BEGIN:VTIMEZONE
TZID:UTC
BEGIN:STANDARD
TZOFFSETFROM:+0000
TZOFFSETTO:+0000
TZNAME:UTC
DTSTART:20170101T000000
END:STANDARD
END:VTIMEZONE
BEGIN:VEVENT
DTSTART;TZID=UTC:20170326T100000
DTEND;TZID=UTC:20170326T120000
DTSTAMP:20260423T084104
CREATED:20170316T121236Z
LAST-MODIFIED:20170316T121236Z
UID:18842-1490522400-1490529600@www.verdadeiroolhar.pt
SUMMARY:Caminhada Solidária em Valongo
DESCRIPTION:O município de Valongo vai organizar uma Caminhada Solidária na freguesia de Valongo\, no próximo dia 26 de Março\, a partir das 10h00\, com o intuito de apoiar a Liga Portuguesa Contra o Cancro – Núcleo Regional do Norte (LPCC-NRN)\, uma entidade de referência nacional no apoio ao doente oncológico e família\, na promoção da educação para a saúde\, na prevenção do cancro\, no estímulo à formação e investigação em oncologia. \nO custo de inscrição é de 3 euros e inclui seguro\, uma t-shirt e água. A caminhada terá um percurso de 8\,7 quilómetros.
URL:https://www.verdadeiroolhar.pt/evento/caminhada-solidaria-valongo/
LOCATION:Valongo\, Valongo
CATEGORIES:Desporto,Eventos Públicos
ATTACH;FMTTYPE=image/jpeg:https://www.verdadeiroolhar.pt/wp-content/uploads/2017/03/Cartaz_Caminhada_Solid_ria_2017_VALONGO_1_768_978.jpg
END:VEVENT
END:VCALENDAR