BEGIN:VCALENDAR
VERSION:2.0
PRODID:-//Verdadeiro Olhar - ECPv5.8.0//NONSGML v1.0//EN
CALSCALE:GREGORIAN
METHOD:PUBLISH
X-WR-CALNAME:Verdadeiro Olhar
X-ORIGINAL-URL:https://www.verdadeiroolhar.pt
X-WR-CALDESC:Events for Verdadeiro Olhar
BEGIN:VTIMEZONE
TZID:UTC
BEGIN:STANDARD
TZOFFSETFROM:+0000
TZOFFSETTO:+0000
TZNAME:UTC
DTSTART:20180101T000000
END:STANDARD
END:VTIMEZONE
BEGIN:VEVENT
DTSTART;TZID=UTC:20180506T083000
DTEND;TZID=UTC:20180506T120000
DTSTAMP:20260424T205258
CREATED:20180502T141619Z
LAST-MODIFIED:20180502T141619Z
UID:40103-1525595400-1525608000@www.verdadeiroolhar.pt
SUMMARY:Caminhada Solidária em Sobreira a favor da Liga Portuguesa Contra o Cancro
DESCRIPTION:No dia 6 de Maio realiza-se\, em Sobreira\, Paredes\, uma Caminhada Solidária a favor da Liga Portuguesa Contra o Cancro. \nO ponto de encontro é a Alameda de São Pedro e a partida é às 9h00. \nA inscrição custa três euros.
URL:https://www.verdadeiroolhar.pt/evento/caminhada-solidaria-em-sobreira-a-favor-da-liga-portuguesa-contra-o-cancro/
LOCATION:Sobreira\, Alameda de S. Pedro\, Paredes
CATEGORIES:Desporto
ATTACH;FMTTYPE=image/jpeg:https://www.verdadeiroolhar.pt/wp-content/uploads/2018/05/29872685_2062955227314795_1502706200844012627_o.jpg
END:VEVENT
END:VCALENDAR