BEGIN:VCALENDAR
VERSION:2.0
PRODID:-//Verdadeiro Olhar - ECPv5.8.0//NONSGML v1.0//EN
CALSCALE:GREGORIAN
METHOD:PUBLISH
X-WR-CALNAME:Verdadeiro Olhar
X-ORIGINAL-URL:https://www.verdadeiroolhar.pt
X-WR-CALDESC:Events for Verdadeiro Olhar
BEGIN:VTIMEZONE
TZID:UTC
BEGIN:STANDARD
TZOFFSETFROM:+0000
TZOFFSETTO:+0000
TZNAME:UTC
DTSTART:20170101T000000
END:STANDARD
END:VTIMEZONE
BEGIN:VEVENT
DTSTART;TZID=UTC:20170507T093000
DTEND;TZID=UTC:20170507T120000
DTSTAMP:20260422T012126
CREATED:20170327T144019Z
LAST-MODIFIED:20170327T144019Z
UID:19195-1494149400-1494158400@www.verdadeiroolhar.pt
SUMMARY:Caminhada Solidária dos Bombeiros de Penafiel
DESCRIPTION:No dia 7 de Maio\, a partir das 9h30\, vai decorrer a I Caminhada Solidária dos Bombeiros de Penafiel. As verbas angariadas destinam-se a adquirir aparelhos respiratórios para a corporação. A concentração é junto ao quartel e no final haverá uma mega aula de zumba. \nA inscrição custa 5 euros e pode ser realizada entre 1 e 30 de Abril. Está prevista a oferta de um kit (limitada ao stock existente). \n“Maio é o mês da Coração. Caminhe pela sua saúde. Dia 7 é também o Dia da Mãe. Ofereça uma caminhada\, ofereça saúde e ajude os bombeiros”\, apela a corporação.
URL:https://www.verdadeiroolhar.pt/evento/caminhada-solidaria-dos-bombeiros-penafiel/
LOCATION:Penafiel
CATEGORIES:Desporto,Eventos Públicos
ATTACH;FMTTYPE=image/jpeg:https://www.verdadeiroolhar.pt/wp-content/uploads/2017/03/17547046_1544052468960984_3551725452412946554_o.jpg
END:VEVENT
END:VCALENDAR