BEGIN:VCALENDAR
VERSION:2.0
PRODID:-//Verdadeiro Olhar - ECPv5.8.0//NONSGML v1.0//EN
CALSCALE:GREGORIAN
METHOD:PUBLISH
X-WR-CALNAME:Verdadeiro Olhar
X-ORIGINAL-URL:https://www.verdadeiroolhar.pt
X-WR-CALDESC:Events for Verdadeiro Olhar
BEGIN:VTIMEZONE
TZID:UTC
BEGIN:STANDARD
TZOFFSETFROM:+0000
TZOFFSETTO:+0000
TZNAME:UTC
DTSTART:20180101T000000
END:STANDARD
END:VTIMEZONE
BEGIN:VEVENT
DTSTART;TZID=UTC:20180121T080000
DTEND;TZID=UTC:20180121T120000
DTSTAMP:20260422T050121
CREATED:20180108T124036Z
LAST-MODIFIED:20180108T124951Z
UID:33269-1516521600-1516536000@www.verdadeiroolhar.pt
SUMMARY:Caminhada Sentir Capela
DESCRIPTION:A 21 de Janeiro\, a Shale Adventure desafia a conhecer as tradições e a cultura da freguesia da Capela\, em Penafiel\, caminhando pela Aldeia Rural Preservada de Cabroelo e Museu da Broa\, entre outros. \nA caminhada Sentir Capela tem a distância de 10 quilómetros\, estando a concentração prevista para as 8h00 no Parque de Merendas da Capela. A iniciativa arranca às 9h00 e tem conclusão prevista para as 12h00. \nA participação custa 5 euros (sem almoço) ou 15 euros por pessoa (com almoço) e conta com um guia. Esta caminhada destina-se a maiores de 10 anos. A inscrição dá acesso a uma garrafa de água e uma surpresa\, promete a organização. \nMais informações e inscrições aqui. 
URL:https://www.verdadeiroolhar.pt/evento/caminhada-sentir-capela/
LOCATION:Parque de Merendas da Capela\, Capela\, Penafiel
CATEGORIES:Eventos Públicos
ATTACH;FMTTYPE=image/png:https://www.verdadeiroolhar.pt/wp-content/uploads/2018/01/Capela1.png
END:VEVENT
END:VCALENDAR