BEGIN:VCALENDAR
VERSION:2.0
PRODID:-//Verdadeiro Olhar - ECPv5.8.0//NONSGML v1.0//EN
CALSCALE:GREGORIAN
METHOD:PUBLISH
X-WR-CALNAME:Verdadeiro Olhar
X-ORIGINAL-URL:https://www.verdadeiroolhar.pt
X-WR-CALDESC:Events for Verdadeiro Olhar
BEGIN:VTIMEZONE
TZID:UTC
BEGIN:STANDARD
TZOFFSETFROM:+0000
TZOFFSETTO:+0000
TZNAME:UTC
DTSTART:20180101T000000
END:STANDARD
END:VTIMEZONE
BEGIN:VEVENT
DTSTART;TZID=UTC:20180415T090000
DTEND;TZID=UTC:20180415T120000
DTSTAMP:20260423T192606
CREATED:20180404T145612Z
LAST-MODIFIED:20180404T150048Z
UID:38242-1523782800-1523793600@www.verdadeiroolhar.pt
SUMMARY:Caminhada e Concurso de Fotografia pela Quinta do Cartão\, em Aveleda\, Lousada
DESCRIPTION:Lousada continua\, este mês\, o Programa Municipal de Caminhadas com uma Caminhada pela Quinta do Cartão\, em Aveleda\, no dia 15 de Abril\, a partir das 9h00. \nO percurso é de 3\,5 quilómetros\, com grau de dificuldade fácil e com início e fim na Capela de Vilela. Vai decorrer em paralelo um concurso de fotografia. A inscrição custa 2\,5 euros.
URL:https://www.verdadeiroolhar.pt/evento/caminhada-pela-quinta-do-cartao-em-aveleda-lousada/
LOCATION:Aveleda\, Lousada
CATEGORIES:Desporto,Eventos Públicos
ATTACH;FMTTYPE=image/jpeg:https://www.verdadeiroolhar.pt/wp-content/uploads/2017/12/Programa-Municipal-de-Caminhadas-de-Lousada-1.jpg
END:VEVENT
END:VCALENDAR