BEGIN:VCALENDAR
VERSION:2.0
PRODID:-//Verdadeiro Olhar - ECPv5.8.0//NONSGML v1.0//EN
CALSCALE:GREGORIAN
METHOD:PUBLISH
X-WR-CALNAME:Verdadeiro Olhar
X-ORIGINAL-URL:https://www.verdadeiroolhar.pt
X-WR-CALDESC:Events for Verdadeiro Olhar
BEGIN:VTIMEZONE
TZID:UTC
BEGIN:STANDARD
TZOFFSETFROM:+0000
TZOFFSETTO:+0000
TZNAME:UTC
DTSTART:20170101T000000
END:STANDARD
END:VTIMEZONE
BEGIN:VEVENT
DTSTART;TZID=UTC:20170805T210000
DTEND;TZID=UTC:20170805T233000
DTSTAMP:20260422T160901
CREATED:20170720T141139Z
LAST-MODIFIED:20170720T141139Z
UID:24822-1501966800-1501975800@www.verdadeiroolhar.pt
SUMMARY:Caminhada Nocturna por Trilhos de Sobreira
DESCRIPTION:A Comissão de Festas em Honra de S. Pedro de Sobreira realiza\, a 5 de Agosto\, às 21h00\, uma Caminhada Nocturna por Trilhos de Sobreira. \nO ponto de encontro é a Alameda de São Pedro e é obrigatório levar lanterna. \nAs inscrições podem ser realizadas aqui e têm o custo de três euros.
URL:https://www.verdadeiroolhar.pt/evento/caminhada-nocturna-trilhos-sobreira/
LOCATION:Sobreira\, Alameda de S. Pedro\, Paredes
CATEGORIES:Desporto,Eventos Públicos
ATTACH;FMTTYPE=image/jpeg:https://www.verdadeiroolhar.pt/wp-content/uploads/2017/07/19961395_1941888849363015_3976320841923814813_n.jpg
END:VEVENT
END:VCALENDAR