BEGIN:VCALENDAR
VERSION:2.0
PRODID:-//Verdadeiro Olhar - ECPv5.8.0//NONSGML v1.0//EN
CALSCALE:GREGORIAN
METHOD:PUBLISH
X-WR-CALNAME:Verdadeiro Olhar
X-ORIGINAL-URL:https://www.verdadeiroolhar.pt
X-WR-CALDESC:Events for Verdadeiro Olhar
BEGIN:VTIMEZONE
TZID:UTC
BEGIN:STANDARD
TZOFFSETFROM:+0000
TZOFFSETTO:+0000
TZNAME:UTC
DTSTART:20180101T000000
END:STANDARD
END:VTIMEZONE
BEGIN:VEVENT
DTSTART;TZID=UTC:20180429T100000
DTEND;TZID=UTC:20180429T123000
DTSTAMP:20260424T115859
CREATED:20180404T150401Z
LAST-MODIFIED:20180404T150401Z
UID:38254-1524996000-1525005000@www.verdadeiroolhar.pt
SUMMARY:Caminhada Juntos pela Escola EBS Dr. Mário Fonseca
DESCRIPTION:Lousada continua\, este mês\, o Programa Municipal de Caminhadas com a Caminhada Juntos Pela Escola\, no dia 29 de Abril\, a partir das 10h00. \nA iniciativa é organizada pela Comissão de Pais da EBS Dr. Mário Fonseca e consiste numa caminhada com cinco quilómetros pelas ruas de Nogueira. A inscrição custa 3 euros.
URL:https://www.verdadeiroolhar.pt/evento/caminhada-juntos-pela-escola-ebs-dr-mario-fonseca/
LOCATION:Lousada
CATEGORIES:Desporto,Eventos Públicos
ATTACH;FMTTYPE=image/jpeg:https://www.verdadeiroolhar.pt/wp-content/uploads/2017/12/Programa-Municipal-de-Caminhadas-de-Lousada-3.jpg
END:VEVENT
END:VCALENDAR