BEGIN:VCALENDAR
VERSION:2.0
PRODID:-//Verdadeiro Olhar - ECPv5.8.0//NONSGML v1.0//EN
CALSCALE:GREGORIAN
METHOD:PUBLISH
X-WR-CALNAME:Verdadeiro Olhar
X-ORIGINAL-URL:https://www.verdadeiroolhar.pt
X-WR-CALDESC:Events for Verdadeiro Olhar
BEGIN:VTIMEZONE
TZID:UTC
BEGIN:STANDARD
TZOFFSETFROM:+0000
TZOFFSETTO:+0000
TZNAME:UTC
DTSTART:20170101T000000
END:STANDARD
END:VTIMEZONE
BEGIN:VEVENT
DTSTART;VALUE=DATE:20170826
DTEND;VALUE=DATE:20170827
DTSTAMP:20260422T014537
CREATED:20170711T165451Z
LAST-MODIFIED:20170711T165451Z
UID:24283-1503705600-1503791999@www.verdadeiroolhar.pt
SUMMARY:Callum Scot em Nevogilde (Lousada)
DESCRIPTION:O cantor Callum Scot é o cabeça de cartaz das Festas em Honra da Nossa Sra. da Ajuda de 2017\, em Nevogilde\, Lousada. \nO artista inglês ganhou a atenção do mundo quando participou no programa de televisão Britain’s Got Talent\, em 2015\, com uma versão de Dancing on My Own.
URL:https://www.verdadeiroolhar.pt/evento/callum-scot-nevogilde-lousada/
LOCATION:Nevogilde\, Lousada
CATEGORIES:Eventos Públicos
ATTACH;FMTTYPE=image/jpeg:https://www.verdadeiroolhar.pt/wp-content/uploads/2017/07/17203027_245539415906039_9013589632133042750_n.jpg
END:VEVENT
END:VCALENDAR