BEGIN:VCALENDAR
VERSION:2.0
PRODID:-//Verdadeiro Olhar - ECPv5.8.0//NONSGML v1.0//EN
CALSCALE:GREGORIAN
METHOD:PUBLISH
X-WR-CALNAME:Verdadeiro Olhar
X-ORIGINAL-URL:https://www.verdadeiroolhar.pt
X-WR-CALDESC:Events for Verdadeiro Olhar
BEGIN:VTIMEZONE
TZID:UTC
BEGIN:STANDARD
TZOFFSETFROM:+0000
TZOFFSETTO:+0000
TZNAME:UTC
DTSTART:20170101T000000
END:STANDARD
END:VTIMEZONE
BEGIN:VEVENT
DTSTART;TZID=UTC:20170805T080000
DTEND;TZID=UTC:20170805T170000
DTSTAMP:20260422T204016
CREATED:20170707T134257Z
LAST-MODIFIED:20170710T115822Z
UID:24037-1501920000-1501952400@www.verdadeiroolhar.pt
SUMMARY:Bombeiros de Penafiel promovem 2.ª Noite Vermelha
DESCRIPTION:No sábado\, dia 5 de Agosto\, os Bombeiros Voluntários de Penafiel voltam a promover a Noite Vermelha\, a partir das 18h00. \nA cidade penafidelense veste-se de vermelho pelo segundo ano consecutivo. Espalhados pela cidade\, estão prometidos jantares de rua\, música\, rancho e bares.
URL:https://www.verdadeiroolhar.pt/evento/bombeiros-de-penafiel-promovem-2-a-noite-vermelha/
LOCATION:Cidade de Penafiel\, Penafiel\, 4560\, Portugal
CATEGORIES:Eventos Públicos
ATTACH;FMTTYPE=image/jpeg:https://www.verdadeiroolhar.pt/wp-content/uploads/2017/07/Noite-Vermelha.jpg
END:VEVENT
END:VCALENDAR