BEGIN:VCALENDAR
VERSION:2.0
PRODID:-//Verdadeiro Olhar - ECPv5.8.0//NONSGML v1.0//EN
CALSCALE:GREGORIAN
METHOD:PUBLISH
X-WR-CALNAME:Verdadeiro Olhar
X-ORIGINAL-URL:https://www.verdadeiroolhar.pt
X-WR-CALDESC:Events for Verdadeiro Olhar
BEGIN:VTIMEZONE
TZID:UTC
BEGIN:STANDARD
TZOFFSETFROM:+0000
TZOFFSETTO:+0000
TZNAME:UTC
DTSTART:20160101T000000
END:STANDARD
END:VTIMEZONE
BEGIN:VEVENT
DTSTART;TZID=UTC:20160825T150000
DTEND;TZID=UTC:20160826T000000
DTSTAMP:20260423T225632
CREATED:20160808T152526Z
LAST-MODIFIED:20160808T152526Z
UID:12255-1472137200-1472169600@www.verdadeiroolhar.pt
SUMMARY:Black Mamba na Agrival 2016
DESCRIPTION:Agrival 2016: 37.ª Feira Agrícola do Vale do Sousa \nDia do Concelho de Felgueiras \n15h00 Abertura\nPalco Intermarché    \n20h30 Grupo de Cantares “Os Montanheses da Capela”\n21h30 Grupo de Cavaquinhos de Canelas\n22h30 Grupo Folclórico Santa Cruz de Vila Meã\n23h30 Demonstração do Ginásio “Ideal Korpus”\n00h30 Dj Residente: Miguel Tika | Dj Convidado: Arpi\nPalco McDonald’s Penafiel\n22h00 Banda “Retoque”\n22h30 Concerto de The Black Mamba \n24h00 Encerramento \nDurante todo o certame pode visitar a 15.ª Mostra Nacional de Gastronomia\, entre as 12h00 e a 1h30. A entrada é livre\, para a praça de gastronomia\, de 2.ª a 6.ª feira entre as 12h00 e as 14h00.
URL:https://www.verdadeiroolhar.pt/evento/black-mamba-na-agrival-2016/
LOCATION:Pavilhão de Feiras e Exposições\, Rua D. António Ferreira Gomes\, Penafiel\, 4560-568
CATEGORIES:Cultura,Eventos Públicos
ATTACH;FMTTYPE=image/jpeg:https://www.verdadeiroolhar.pt/wp-content/uploads/2016/08/Black-Mamba.jpg
END:VEVENT
END:VCALENDAR