BEGIN:VCALENDAR
VERSION:2.0
PRODID:-//Verdadeiro Olhar - ECPv5.8.0//NONSGML v1.0//EN
CALSCALE:GREGORIAN
METHOD:PUBLISH
X-WR-CALNAME:Verdadeiro Olhar
X-ORIGINAL-URL:https://www.verdadeiroolhar.pt
X-WR-CALDESC:Events for Verdadeiro Olhar
BEGIN:VTIMEZONE
TZID:UTC
BEGIN:STANDARD
TZOFFSETFROM:+0000
TZOFFSETTO:+0000
TZNAME:UTC
DTSTART:20180101T000000
END:STANDARD
END:VTIMEZONE
BEGIN:VEVENT
DTSTART;TZID=UTC:20180512T093000
DTEND;TZID=UTC:20180512T123000
DTSTAMP:20260424T232550
CREATED:20180423T142756Z
LAST-MODIFIED:20180423T142756Z
UID:39698-1526117400-1526128200@www.verdadeiroolhar.pt
SUMMARY:BioLousada na Mata de Vilar - Floresta de Alto Valor de Conservação
DESCRIPTION:O BioLousada\, programa de sensibilização ambiental iniciado em 2016 pela Câmara Municipal de Lousada em parceria com a Associação BioLiving e o apoio da Universidade de Aveiro\, continua com um conjunto diverso e significativo de iniciativas dedicadas à descoberta e divulgação da fauna e flora das terras de Lousada. \nNo dia 12 de Maio\, entre as 9h30 e as 12h30\, realiza-se na Mata de Vilar a iniciativa “Mata de Vilar – Floresta de Alto Valor de Conservação”\, que vai debruçar-se sobre aquela que é a maior mancha de floresta nativa contínua do concelho de Lousada. \nPode inscrever-se aqui até ao dia 8 de Maio.
URL:https://www.verdadeiroolhar.pt/evento/biolousada-na-mata-vilar-floresta-alto-valor-conservacao/
LOCATION:Mata e Parque de Vilar\, Lousada
CATEGORIES:Eventos Públicos
ATTACH;FMTTYPE=image/jpeg:https://www.verdadeiroolhar.pt/wp-content/uploads/2018/04/biolousada_mata_vilar.jpg
END:VEVENT
END:VCALENDAR