BEGIN:VCALENDAR
VERSION:2.0
PRODID:-//Verdadeiro Olhar - ECPv5.8.0//NONSGML v1.0//EN
CALSCALE:GREGORIAN
METHOD:PUBLISH
X-WR-CALNAME:Verdadeiro Olhar
X-ORIGINAL-URL:https://www.verdadeiroolhar.pt
X-WR-CALDESC:Events for Verdadeiro Olhar
BEGIN:VTIMEZONE
TZID:UTC
BEGIN:STANDARD
TZOFFSETFROM:+0000
TZOFFSETTO:+0000
TZNAME:UTC
DTSTART:20170101T000000
END:STANDARD
END:VTIMEZONE
BEGIN:VEVENT
DTSTART;TZID=UTC:20170722T080000
DTEND;TZID=UTC:20170722T230000
DTSTAMP:20260423T013738
CREATED:20170704T163249Z
LAST-MODIFIED:20170704T163249Z
UID:23814-1500710400-1500764400@www.verdadeiroolhar.pt
SUMMARY:Ser biólogo por um dia! em Lousada
DESCRIPTION:No dia 22 de Julho\, entre as 8h00 e as 23h00\, Lousada recebe o LousadaBlitz que permite aos participantes serem “biólogos por um dia!”. \nSerá possível conhecer a fauna e a flora do concelho na companhia de especialistas de diversas áreas. As actividades do 1.º Lousada Blitz são dirigidas a miúdos e graúdos\, num roteiro científico e lúdico de natureza\, em todo o concelho\, de manhã à noite. \nO dia começa cedo com a anilhagem científica de aves\, e termina com os morcegos. Pelo meio os insectos\, os anfíbios e répteis\, os mamíferos e as plantas. \nPode acompanhar todas as acções ou só algumas. \nAs actividades decorrem na Quinta de Cácere\, Quinta de Vila Verde\, no Parque Urbano e nos Moinhos de Pias. \nÉ necessária inscrição.
URL:https://www.verdadeiroolhar.pt/evento/biologo-um-dia-lousada/
LOCATION:Lousada
CATEGORIES:Eventos Públicos
ATTACH;FMTTYPE=image/jpeg:https://www.verdadeiroolhar.pt/wp-content/uploads/2017/07/Lousada-Blitz.jpg
END:VEVENT
END:VCALENDAR