BEGIN:VCALENDAR
VERSION:2.0
PRODID:-//Verdadeiro Olhar - ECPv5.8.0//NONSGML v1.0//EN
CALSCALE:GREGORIAN
METHOD:PUBLISH
X-WR-CALNAME:Verdadeiro Olhar
X-ORIGINAL-URL:https://www.verdadeiroolhar.pt
X-WR-CALDESC:Events for Verdadeiro Olhar
BEGIN:VTIMEZONE
TZID:UTC
BEGIN:STANDARD
TZOFFSETFROM:+0000
TZOFFSETTO:+0000
TZNAME:UTC
DTSTART:20180101T000000
END:STANDARD
END:VTIMEZONE
BEGIN:VEVENT
DTSTART;TZID=UTC:20180113T213000
DTEND;TZID=UTC:20180113T233000
DTSTAMP:20260422T135730
CREATED:20180111T112411Z
LAST-MODIFIED:20180111T112411Z
UID:33454-1515879000-1515886200@www.verdadeiroolhar.pt
SUMMARY:Big Band Pedaços de Nós em Concerto de Ano Novo
DESCRIPTION:No sábado\, dia 13 de Janeiro\, a Associação Empresarial de Paços de Ferreira acolhe um Concerto de Ano Novo com a Big Band Pedaços de Nós. \nO evento tem início pelas 21h30 e tem entrada gratuita.
URL:https://www.verdadeiroolhar.pt/evento/big-band-pedacos-nos-concerto-ano-novo/
LOCATION:Associação Empresarial de Paços de Ferreira\, Paços de Ferreira
CATEGORIES:Cultura
ATTACH;FMTTYPE=image/jpeg:https://www.verdadeiroolhar.pt/wp-content/uploads/2018/01/Big-Band.jpg
END:VEVENT
END:VCALENDAR