BEGIN:VCALENDAR
VERSION:2.0
PRODID:-//Verdadeiro Olhar - ECPv5.8.0//NONSGML v1.0//EN
CALSCALE:GREGORIAN
METHOD:PUBLISH
X-WR-CALNAME:Verdadeiro Olhar
X-ORIGINAL-URL:https://www.verdadeiroolhar.pt
X-WR-CALDESC:Events for Verdadeiro Olhar
BEGIN:VTIMEZONE
TZID:UTC
BEGIN:STANDARD
TZOFFSETFROM:+0000
TZOFFSETTO:+0000
TZNAME:UTC
DTSTART:20160101T000000
END:STANDARD
END:VTIMEZONE
BEGIN:VEVENT
DTSTART;TZID=UTC:20160809T143000
DTEND;TZID=UTC:20160827T103000
DTSTAMP:20260423T105321
CREATED:20160729T131432Z
LAST-MODIFIED:20160729T131432Z
UID:11959-1470753000-1472293800@www.verdadeiroolhar.pt
SUMMARY:Biblioteca de Penafiel com Oficinas de Verão em Agosto
DESCRIPTION:Durante o mês de Agosto\, a Biblioteca de Penafiel recebe várias Oficinas de Verão. \n9 de Agosto\, 14h30\n“Móbiles”\nDinamização: Try With Us\nInscrição: 5\,00€ \n11 de Agosto\, 14h30\n“Balão da Imaginação”\nDinamização: Rute Cardoso – Quinta do Lobo Branco\nInscrição: 5\,00€ \n19 de Agosto\, 14h30\n“Origami”\nDinamização: Try With Us\nInscrição: 5\,00€ \n27 de Agosto\, 10h30\n“Yoga Para Adultos”\nDinamização: Sara Rios – Quinta do Lobo Branco\nInscrição: 5\,00€
URL:https://www.verdadeiroolhar.pt/evento/biblioteca-penafiel-oficinas-verao-agosto/
LOCATION:Biblioteca Municipal de Penafiel\, Avenida Egas Moniz\, Penafiel\, Portugal
CATEGORIES:Cultura
ATTACH;FMTTYPE=image/jpeg:https://www.verdadeiroolhar.pt/wp-content/uploads/2015/10/PNF_Biblioteca-penafiel-e1451989583403.jpg
END:VEVENT
END:VCALENDAR