BEGIN:VCALENDAR
VERSION:2.0
PRODID:-//Verdadeiro Olhar - ECPv5.8.0//NONSGML v1.0//EN
CALSCALE:GREGORIAN
METHOD:PUBLISH
X-WR-CALNAME:Verdadeiro Olhar
X-ORIGINAL-URL:https://www.verdadeiroolhar.pt
X-WR-CALDESC:Events for Verdadeiro Olhar
BEGIN:VTIMEZONE
TZID:UTC
BEGIN:STANDARD
TZOFFSETFROM:+0000
TZOFFSETTO:+0000
TZNAME:UTC
DTSTART:20160101T000000
END:STANDARD
END:VTIMEZONE
BEGIN:VEVENT
DTSTART;TZID=UTC:20160908T140000
DTEND;TZID=UTC:20160908T170000
DTSTAMP:20260424T054607
CREATED:20160906T160816Z
LAST-MODIFIED:20160906T160816Z
UID:12904-1473343200-1473354000@www.verdadeiroolhar.pt
SUMMARY:Biblioteca Municipal promove visita ao Museu da Imprensa
DESCRIPTION:Na quinta-feira\, dia 8 de Setembro\, pelas 14h00\, a Biblioteca Municipal de Lousada promove uma visita ao Museu de Imprensa onde os mais jovens poderão participar numa oficina de encadernação.\n“Os participantes são desafiados a construir o seu próprio livro em capa mole\, com oportunidade de executar todo o trabalho\, desde a dobragem das folhas à colagem da capa. Um dos pontos a destacar é o processo de coser os cadernos de folhas\, também ele executado pelos jovens encadernadores. A capa do livro é impressa pelos alunos nas máquinas de impressão expostas no Museu”\, explica a Câmara Municipal.\nA actividade destina-se a crianças dos 8 aos 13 anos. A inscrição custa quatro euros.
URL:https://www.verdadeiroolhar.pt/evento/biblioteca-municipal-promove-visita-ao-museu-da-imprensa/
LOCATION:Biblioteca Municipal de Lousada\, Lousada
CATEGORIES:Cultura
ATTACH;FMTTYPE=image/jpeg:https://www.verdadeiroolhar.pt/wp-content/uploads/2016/09/museu-imprensa.jpg
END:VEVENT
END:VCALENDAR