BEGIN:VCALENDAR
VERSION:2.0
PRODID:-//Verdadeiro Olhar - ECPv5.8.0//NONSGML v1.0//EN
CALSCALE:GREGORIAN
METHOD:PUBLISH
X-WR-CALNAME:Verdadeiro Olhar
X-ORIGINAL-URL:https://www.verdadeiroolhar.pt
X-WR-CALDESC:Events for Verdadeiro Olhar
BEGIN:VTIMEZONE
TZID:UTC
BEGIN:STANDARD
TZOFFSETFROM:+0000
TZOFFSETTO:+0000
TZNAME:UTC
DTSTART:20180101T000000
END:STANDARD
END:VTIMEZONE
BEGIN:VEVENT
DTSTART;VALUE=DATE:20180317
DTEND;VALUE=DATE:20180319
DTSTAMP:20260422T050529
CREATED:20180221T144229Z
LAST-MODIFIED:20180221T144229Z
UID:35564-1521244800-1521417599@www.verdadeiroolhar.pt
SUMMARY:Baltar Tuning & Stance - Concentração e exposição de veículos modificados
DESCRIPTION:Nos dias 17 e 18 de Março\, entre as 14h00 e as 17h00\, Baltar recebe mais um Baltar Tuning & Stance – concentração e exposição de veículos modificados. \nDurante o evento vão decorrer vários espectáculos como Show de Stunt Riding/Freestyle\, Show de Drift\, Car Limbo e Prova de escape Ruidoso/Fumarento/Rater. \nHaverá ainda zona de expositores\, locais com comes e bebes e zona de acampamento para quem quiser ficar durante os dois dias. \nO evento realiza-se no parque exterior da empresa A.Barbosa Madeiras\, a 500 metros da saída Baltar/Parada (A4). \nAs inscrições custam entre cinco e 10 euros. \nA organização é do Tuning & Stance Portugal\, Cola-me e do 100 Limites. Saiba mais aqui.
URL:https://www.verdadeiroolhar.pt/evento/baltar-tuning-stance-concentracao-exposicao-veiculos-modificados/
LOCATION:Baltar\, Paredes
CATEGORIES:Eventos Públicos
ATTACH;FMTTYPE=image/jpeg:https://www.verdadeiroolhar.pt/wp-content/uploads/2018/02/Tunning.jpg
END:VEVENT
END:VCALENDAR