BEGIN:VCALENDAR
VERSION:2.0
PRODID:-//Verdadeiro Olhar - ECPv5.8.0//NONSGML v1.0//EN
CALSCALE:GREGORIAN
METHOD:PUBLISH
X-WR-CALNAME:Verdadeiro Olhar
X-ORIGINAL-URL:https://www.verdadeiroolhar.pt
X-WR-CALDESC:Events for Verdadeiro Olhar
BEGIN:VTIMEZONE
TZID:UTC
BEGIN:STANDARD
TZOFFSETFROM:+0000
TZOFFSETTO:+0000
TZNAME:UTC
DTSTART:20160101T000000
END:STANDARD
END:VTIMEZONE
BEGIN:VEVENT
DTSTART;TZID=UTC:20160626T103000
DTEND;TZID=UTC:20160626T120000
DTSTAMP:20260421T215324
CREATED:20160606T154619Z
LAST-MODIFIED:20160606T154619Z
UID:9685-1466937000-1466942400@www.verdadeiroolhar.pt
SUMMARY:Aula de Zumba no Parque Urbano
DESCRIPTION:No domingo\, dia 26\, o Parque Urbano Dr. Mário Fonseca\, em Lousada\, vai receber uma aula de zumba \, a partir da 10h30. \nA iniciativa surge de uma parceria da ALDALF com SIM-PD e Happy Place. \nAs inscrições podem ser feitas a partir do site yoga@nullaldalf.pt. Os participantes terão direito a água e uma t-shirt.
URL:https://www.verdadeiroolhar.pt/evento/aula-zumba-no-parque-urbano/
LOCATION:Parque Urbano Dr. Mário Fonseca\, Avenida Amílcar Neto\, Lousada
CATEGORIES:Desporto,Eventos Públicos
ATTACH;FMTTYPE=image/jpeg:https://www.verdadeiroolhar.pt/wp-content/uploads/2016/06/parqueurbanolousada.jpg
END:VEVENT
END:VCALENDAR