BEGIN:VCALENDAR
VERSION:2.0
PRODID:-//Verdadeiro Olhar - ECPv5.8.0//NONSGML v1.0//EN
CALSCALE:GREGORIAN
METHOD:PUBLISH
X-WR-CALNAME:Verdadeiro Olhar
X-ORIGINAL-URL:https://www.verdadeiroolhar.pt
X-WR-CALDESC:Events for Verdadeiro Olhar
BEGIN:VTIMEZONE
TZID:UTC
BEGIN:STANDARD
TZOFFSETFROM:+0000
TZOFFSETTO:+0000
TZNAME:UTC
DTSTART:20160101T000000
END:STANDARD
END:VTIMEZONE
BEGIN:VEVENT
DTSTART;VALUE=DATE:20160624
DTEND;VALUE=DATE:20160626
DTSTAMP:20260421T113642
CREATED:20160616T103209Z
LAST-MODIFIED:20160616T103209Z
UID:10184-1466726400-1466899199@www.verdadeiroolhar.pt
SUMMARY:Auditório recebe concerto final do Concurso Internacional de Sopros
DESCRIPTION:Nos dias 24 e 25\, o Conservatório de Música do Vale do Sousa e o Auditório Municipal de Lousada vão ser palco do primeiro Concurso Internacional de Sopros – Tuba e Eufónio.\n\nPara sábado\,o último dia do concurso\, está marcado\, a partir das 21h30\, o concerto final\, no Auditório Municipal.\nA sessão está aberta ao público.
URL:https://www.verdadeiroolhar.pt/evento/auditorio-recebe-concerto-final-do-concurso-internacional-sopros/
LOCATION:Auditório Municipal de Lousada\, Qtª das Pocinhas\, Lousada\, 4620-674\, Portugal
CATEGORIES:Cultura,Eventos Públicos
ATTACH;FMTTYPE=image/jpeg:https://www.verdadeiroolhar.pt/wp-content/uploads/2016/06/unnamed-e1465470012882.jpg
ORGANIZER;CN="Conservat%C3%B3rio%20do%20Vale%20do%20Sousa":MAILTO:secretaria@acmlousada.pt
END:VEVENT
END:VCALENDAR