BEGIN:VCALENDAR
VERSION:2.0
PRODID:-//Verdadeiro Olhar - ECPv5.8.0//NONSGML v1.0//EN
CALSCALE:GREGORIAN
METHOD:PUBLISH
X-WR-CALNAME:Verdadeiro Olhar
X-ORIGINAL-URL:https://www.verdadeiroolhar.pt
X-WR-CALDESC:Events for Verdadeiro Olhar
BEGIN:VTIMEZONE
TZID:UTC
BEGIN:STANDARD
TZOFFSETFROM:+0000
TZOFFSETTO:+0000
TZNAME:UTC
DTSTART:20160101T000000
END:STANDARD
END:VTIMEZONE
BEGIN:VEVENT
DTSTART;TZID=UTC:20160714T213000
DTEND;TZID=UTC:20160715T213000
DTSTAMP:20260423T013626
CREATED:20160713T104013Z
LAST-MODIFIED:20160729T131548Z
UID:11415-1468531800-1468618200@www.verdadeiroolhar.pt
SUMMARY:Sarau da Academia de Ballet no Auditório
DESCRIPTION:Na quinta e sexta-feira\, dias 14 e 15\, o Auditório Municipal de Lousada recebe o Sarau da Academia de Ballet do Conservatório do Vale do Sousa. \nEm ambos os dias o espectáculo tem início marcado para as 21h30.
URL:https://www.verdadeiroolhar.pt/evento/auditorio-r/
LOCATION:Auditório Municipal de Lousada\, Qtª das Pocinhas\, Lousada\, 4620-674\, Portugal
CATEGORIES:Cultura
ATTACH;FMTTYPE=image/jpeg:https://www.verdadeiroolhar.pt/wp-content/uploads/2016/07/Ballet.jpg
ORGANIZER;CN="Conservat%C3%B3rio%20do%20Vale%20do%20Sousa":MAILTO:secretaria@acmlousada.pt
END:VEVENT
END:VCALENDAR