BEGIN:VCALENDAR
VERSION:2.0
PRODID:-//Verdadeiro Olhar - ECPv5.8.0//NONSGML v1.0//EN
CALSCALE:GREGORIAN
METHOD:PUBLISH
X-WR-CALNAME:Verdadeiro Olhar
X-ORIGINAL-URL:https://www.verdadeiroolhar.pt
X-WR-CALDESC:Events for Verdadeiro Olhar
BEGIN:VTIMEZONE
TZID:UTC
BEGIN:STANDARD
TZOFFSETFROM:+0000
TZOFFSETTO:+0000
TZNAME:UTC
DTSTART:20150101T000000
END:STANDARD
END:VTIMEZONE
BEGIN:VEVENT
DTSTART;TZID=UTC:20151223T150000
DTEND;TZID=UTC:20151223T170000
DTSTAMP:20260423T055443
CREATED:20151214T162956Z
LAST-MODIFIED:20151214T162956Z
UID:2866-1450882800-1450890000@www.verdadeiroolhar.pt
SUMMARY:Atelier “Pai Natal de Feltro” na Biblioteca Municipal de Paredes
DESCRIPTION:O município de Paredes\, através dos Pelouros da Cultura e Turismo\, preparou para o mês de Dezembro várias actividades\, do dia 20 ao dia 23\, no âmbito da iniciativa “Natal Divertido”\, promovida pelo Serviço Educativo.
URL:https://www.verdadeiroolhar.pt/evento/atelier-pai-natal-feltro-na-biblioteca-municipal-paredes/
LOCATION:Biblioteca Municipal de Paredes\, Praça José Guilherme\, Paredes\, 4580
CATEGORIES:Cultura
ATTACH;FMTTYPE=image/png:https://www.verdadeiroolhar.pt/wp-content/uploads/2015/12/NatalDivertido2019.png
END:VEVENT
END:VCALENDAR