BEGIN:VCALENDAR
VERSION:2.0
PRODID:-//Verdadeiro Olhar - ECPv5.8.0//NONSGML v1.0//EN
CALSCALE:GREGORIAN
METHOD:PUBLISH
X-WR-CALNAME:Verdadeiro Olhar
X-ORIGINAL-URL:https://www.verdadeiroolhar.pt
X-WR-CALDESC:Events for Verdadeiro Olhar
BEGIN:VTIMEZONE
TZID:UTC
BEGIN:STANDARD
TZOFFSETFROM:+0000
TZOFFSETTO:+0000
TZNAME:UTC
DTSTART:20170101T000000
END:STANDARD
END:VTIMEZONE
BEGIN:VEVENT
DTSTART;TZID=UTC:20170902T180000
DTEND;TZID=UTC:20170902T193000
DTSTAMP:20260421T140200
CREATED:20170828T112041Z
LAST-MODIFIED:20170828T112041Z
UID:26373-1504375200-1504380600@www.verdadeiroolhar.pt
SUMMARY:“A arte de caçar destinos” na Casa do Xiné
DESCRIPTION:No próximo sábado\, 2 de Setembro\, a Casa do Xiné\, em Lagares\, Penafiel\, recebe a apresentação do livro “A arte de caçar destinos”\, de Alberto S. Santos\, com a apresentação de António Lobo Xavier. \n“A arte de caçar destinos” conta com sete inquietantes histórias inspiradas no imaginário da tradição portuguesa\, umas delas passada na aldeia de Quintandona. \nA apresentação tem hora marcada para as 18h00\, com entrada gratuita.
URL:https://www.verdadeiroolhar.pt/evento/arte-cacar-destinos-na-casa-do-xine/
LOCATION:Casa do Xiné – Centro Cultural\, Quintandona\, Lagares\, Penafiel\, 4560-195
CATEGORIES:Cultura
ATTACH;FMTTYPE=image/jpeg:https://www.verdadeiroolhar.pt/wp-content/uploads/2017/07/Alberto_S.Santos.jpg
END:VEVENT
END:VCALENDAR