BEGIN:VCALENDAR
VERSION:2.0
PRODID:-//Verdadeiro Olhar - ECPv5.8.0//NONSGML v1.0//EN
CALSCALE:GREGORIAN
METHOD:PUBLISH
X-WR-CALNAME:Verdadeiro Olhar
X-ORIGINAL-URL:https://www.verdadeiroolhar.pt
X-WR-CALDESC:Events for Verdadeiro Olhar
BEGIN:VTIMEZONE
TZID:UTC
BEGIN:STANDARD
TZOFFSETFROM:+0000
TZOFFSETTO:+0000
TZNAME:UTC
DTSTART:20160101T000000
END:STANDARD
END:VTIMEZONE
BEGIN:VEVENT
DTSTART;VALUE=DATE:20160731
DTEND;VALUE=DATE:20160801
DTSTAMP:20260423T093656
CREATED:20160705T173150Z
LAST-MODIFIED:20160705T173150Z
UID:11100-1469923200-1470009599@www.verdadeiroolhar.pt
SUMMARY:"Armas e Brasões" no Museu de Penafiel
DESCRIPTION:No domingo\, dia 31\, a iniciativa “Ao domingo no Museu” recebe a actividade “Armas e Brasões”\, a partir das 15h00\, no Museu Municipal de Penafiel.
URL:https://www.verdadeiroolhar.pt/evento/armas-brasoes-no-museu-penafiel/
LOCATION:Museu Municipal de Penafiel\, R. do Paço\, Penafiel\, 4560-485\, Portugal
CATEGORIES:Cultura
ATTACH;FMTTYPE=image/jpeg:https://www.verdadeiroolhar.pt/wp-content/uploads/2015/11/museu.jpg
END:VEVENT
END:VCALENDAR