BEGIN:VCALENDAR
VERSION:2.0
PRODID:-//Verdadeiro Olhar - ECPv5.8.0//NONSGML v1.0//EN
CALSCALE:GREGORIAN
METHOD:PUBLISH
X-WR-CALNAME:Verdadeiro Olhar
X-ORIGINAL-URL:https://www.verdadeiroolhar.pt
X-WR-CALDESC:Events for Verdadeiro Olhar
BEGIN:VTIMEZONE
TZID:UTC
BEGIN:STANDARD
TZOFFSETFROM:+0000
TZOFFSETTO:+0000
TZNAME:UTC
DTSTART:20180101T000000
END:STANDARD
END:VTIMEZONE
BEGIN:VEVENT
DTSTART;TZID=UTC:20180424T213000
DTEND;TZID=UTC:20180424T233000
DTSTAMP:20260424T090822
CREATED:20180418T170602Z
LAST-MODIFIED:20180418T170602Z
UID:39434-1524605400-1524612600@www.verdadeiroolhar.pt
SUMMARY:AR Novelense comemora 25 de Abril com música e poesia
DESCRIPTION:A Associação Recreativa Novelense\, de Novelas\, Penafiel\, vai comemorar o 25 de Abril com música e poesia. \nA iniciativa decorre pelas 21h30 do dia 24 de Abril no bar da associação.
URL:https://www.verdadeiroolhar.pt/evento/ar-novelense-comemora-25-abril-musica-poesia/
LOCATION:Novelas\, Penafiel
CATEGORIES:Cultura
ATTACH;FMTTYPE=image/jpeg:https://www.verdadeiroolhar.pt/wp-content/uploads/2018/04/25-de-abril.jpg
END:VEVENT
END:VCALENDAR