BEGIN:VCALENDAR
VERSION:2.0
PRODID:-//Verdadeiro Olhar - ECPv5.8.0//NONSGML v1.0//EN
CALSCALE:GREGORIAN
METHOD:PUBLISH
X-WR-CALNAME:Verdadeiro Olhar
X-ORIGINAL-URL:https://www.verdadeiroolhar.pt
X-WR-CALDESC:Events for Verdadeiro Olhar
BEGIN:VTIMEZONE
TZID:UTC
BEGIN:STANDARD
TZOFFSETFROM:+0000
TZOFFSETTO:+0000
TZNAME:UTC
DTSTART:20150101T000000
END:STANDARD
END:VTIMEZONE
BEGIN:VEVENT
DTSTART;TZID=UTC:20151211T210000
DTEND;TZID=UTC:20151211T230000
DTSTAMP:20260422T163728
CREATED:20151130T173839Z
LAST-MODIFIED:20151130T173839Z
UID:2464-1449867600-1449874800@www.verdadeiroolhar.pt
SUMMARY:Apresentação do livro "Toma conta de mim"
DESCRIPTION:capa_Toma Conta de Mim\nNo dia 11 de Dezembro\, irá realizar-se a apresentação do Livro “Toma Conta de Mim”\, de Jorge Madureira.\nA apresentação será seguida de um concerto de Natal\, pela Escola de Música Melodia. \nOrganização:\nBiblioteca Municipal de Penafiel
URL:https://www.verdadeiroolhar.pt/evento/apresentacao-do-livro-toma-conta-de-mim/
LOCATION:Biblioteca Municipal de Penafiel\, Avenida Egas Moniz\, Penafiel\, Portugal
CATEGORIES:Cultura
END:VEVENT
END:VCALENDAR