BEGIN:VCALENDAR
VERSION:2.0
PRODID:-//Verdadeiro Olhar - ECPv5.8.0//NONSGML v1.0//EN
CALSCALE:GREGORIAN
METHOD:PUBLISH
X-WR-CALNAME:Verdadeiro Olhar
X-ORIGINAL-URL:https://www.verdadeiroolhar.pt
X-WR-CALDESC:Events for Verdadeiro Olhar
BEGIN:VTIMEZONE
TZID:UTC
BEGIN:STANDARD
TZOFFSETFROM:+0000
TZOFFSETTO:+0000
TZNAME:UTC
DTSTART:20180101T000000
END:STANDARD
END:VTIMEZONE
BEGIN:VEVENT
DTSTART;TZID=UTC:20180427T213000
DTEND;TZID=UTC:20180427T230000
DTSTAMP:20260424T093231
CREATED:20180403T114220Z
LAST-MODIFIED:20180403T114220Z
UID:38129-1524864600-1524870000@www.verdadeiroolhar.pt
SUMMARY:Apresentação do Livro "Sete Janelas Com Vista Para a Morte" na Biblioteca de Penafiel
DESCRIPTION:No dia 27 de Abril\, pelas 21h30\, a Biblioteca  municipal de Penafiel recebe a apresentação do Livro “Sete Janelas Com Vista Para a Morte”\, de Miguel Miranda. A apresentação acontece no âmbito do Dia Mundial do Livro que se celebra a 23 de Abril. \nO livro conta a história de Edviges Stout é uma mulher frágil e doente\, que dirige com mão de ferro o Grupo Azygus\, uma instituição financeira cujos lucros se destinam a filantropia – o que pode ser uma fachada para negócios obscuros. Suspeita que alguém a quer matar e\, para o impedir\, contrata o detective Mário França\, o maior detective do mundo\, com escritório no Porto\, no Muro dos Bacalhoeiros. \nVencedor do Prémio Caminho de Literatura Policial\, finalista do Prémio Violeta Negra do Festival de Literatura Policial de Toulouse\, Sete Janelas Com Vista Para a Morte é o maior desafio da carreira do detective Mário França.
URL:https://www.verdadeiroolhar.pt/evento/apresentacao-do-livro-sete-janelas-vista-morte-na-biblioteca-penafiel/
LOCATION:Biblioteca Municipal de Penafiel\, Avenida Egas Moniz\, Penafiel\, Portugal
CATEGORIES:Cultura
ATTACH;FMTTYPE=image/jpeg:https://www.verdadeiroolhar.pt/wp-content/uploads/2018/04/SeteJanelas.jpg
END:VEVENT
END:VCALENDAR