BEGIN:VCALENDAR
VERSION:2.0
PRODID:-//Verdadeiro Olhar - ECPv5.8.0//NONSGML v1.0//EN
CALSCALE:GREGORIAN
METHOD:PUBLISH
X-WR-CALNAME:Verdadeiro Olhar
X-ORIGINAL-URL:https://www.verdadeiroolhar.pt
X-WR-CALDESC:Events for Verdadeiro Olhar
BEGIN:VTIMEZONE
TZID:UTC
BEGIN:STANDARD
TZOFFSETFROM:+0000
TZOFFSETTO:+0000
TZNAME:UTC
DTSTART:20150101T000000
END:STANDARD
END:VTIMEZONE
BEGIN:VEVENT
DTSTART;TZID=UTC:20151127T213000
DTEND;TZID=UTC:20151127T230000
DTSTAMP:20260421T212435
CREATED:20151109T153817Z
LAST-MODIFIED:20151109T153817Z
UID:1740-1448659800-1448665200@www.verdadeiroolhar.pt
SUMMARY:Apresentação do Livro "Sem Coração"\, de Miguel Miranda
DESCRIPTION:Apresentação da obra a cargo do escritor e jornalista Germano Silva
URL:https://www.verdadeiroolhar.pt/evento/apresentacao-do-livro-sem-coracao-de-miguel-miranda/
LOCATION:Biblioteca Municipal de Penafiel\, Avenida Egas Moniz\, Penafiel\, Portugal
CATEGORIES:Cultura
END:VEVENT
END:VCALENDAR