BEGIN:VCALENDAR
VERSION:2.0
PRODID:-//Verdadeiro Olhar - ECPv5.8.0//NONSGML v1.0//EN
CALSCALE:GREGORIAN
METHOD:PUBLISH
X-WR-CALNAME:Verdadeiro Olhar
X-ORIGINAL-URL:https://www.verdadeiroolhar.pt
X-WR-CALDESC:Events for Verdadeiro Olhar
BEGIN:VTIMEZONE
TZID:UTC
BEGIN:STANDARD
TZOFFSETFROM:+0000
TZOFFSETTO:+0000
TZNAME:UTC
DTSTART:20180101T000000
END:STANDARD
END:VTIMEZONE
BEGIN:VEVENT
DTSTART;TZID=UTC:20180608T210000
DTEND;TZID=UTC:20180608T230000
DTSTAMP:20260425T230845
CREATED:20180604T134927Z
LAST-MODIFIED:20180604T134927Z
UID:42294-1528491600-1528498800@www.verdadeiroolhar.pt
SUMMARY:Apresentação do livro "Salvatore" da Biblioteca de Paredes
DESCRIPTION:O livro “Salvatore”\, de Catarina Garcês\, será apresentado na Biblioteca Municipal de Paredes no dia 8 de Junho\, pelas 21h00. \n  \n“Ela ansiava por uma paixão que deixasse até o próprio Diabo rendido sobre os seus joelhos.” Vienna está presa numa maldição que apenas um Amor Verdadeiro pode quebrar. Fica cativa e Vittore\, um Anjo\, e a personificação do Diabo lutam pela possessão da sua Alma. A esperança aparece quando Tommaso a encontra. No entanto\, com medo de se permitir sentir o seu Amor irrevogável e inegável por Vienna\, ele segue com a sua vida de boémio\, explica sinopse. Vienna questiona Tommaso acerca dos seus medos mais profundos\, e fá-lo indagar sobre o significado de Amor. Fá-lo perspectivar conceitos como a dor\, o Perdão e segundas oportunidades.
URL:https://www.verdadeiroolhar.pt/evento/apresentacao-do-livro-salvatore-da-biblioteca-de-paredes/
LOCATION:Biblioteca Municipal de Paredes\, Praça José Guilherme\, Paredes\, 4580
CATEGORIES:Cultura
ATTACH;FMTTYPE=image/jpeg:https://www.verdadeiroolhar.pt/wp-content/uploads/2018/06/salvator_digital_.jpg
END:VEVENT
END:VCALENDAR