BEGIN:VCALENDAR
VERSION:2.0
PRODID:-//Verdadeiro Olhar - ECPv5.8.0//NONSGML v1.0//EN
CALSCALE:GREGORIAN
METHOD:PUBLISH
X-WR-CALNAME:Verdadeiro Olhar
X-ORIGINAL-URL:https://www.verdadeiroolhar.pt
X-WR-CALDESC:Events for Verdadeiro Olhar
BEGIN:VTIMEZONE
TZID:UTC
BEGIN:STANDARD
TZOFFSETFROM:+0000
TZOFFSETTO:+0000
TZNAME:UTC
DTSTART:20160101T000000
END:STANDARD
END:VTIMEZONE
BEGIN:VEVENT
DTSTART;TZID=UTC:20160109T103000
DTEND;TZID=UTC:20160109T120000
DTSTAMP:20260425T143304
CREATED:20151229T155113Z
LAST-MODIFIED:20160106T182930Z
UID:3251-1452335400-1452340800@www.verdadeiroolhar.pt
SUMMARY:Sábados em família na Biblioteca
DESCRIPTION:Encontro com o escritor Sérgio Mendes\, vencedor da 2ª edição do Prémio de Literatura.\nInfantil Pingo Doce\, com “O caracol apaixonado”.\nActividade sujeita a marcação prévia.
URL:https://www.verdadeiroolhar.pt/evento/apresentacao-do-livro-poesia-com-nomes-de-mulher/
LOCATION:Biblioteca Municipal de Penafiel\, Avenida Egas Moniz\, Penafiel\, Portugal
CATEGORIES:Cultura
END:VEVENT
END:VCALENDAR