BEGIN:VCALENDAR
VERSION:2.0
PRODID:-//Verdadeiro Olhar - ECPv5.8.0//NONSGML v1.0//EN
CALSCALE:GREGORIAN
METHOD:PUBLISH
X-WR-CALNAME:Verdadeiro Olhar
X-ORIGINAL-URL:https://www.verdadeiroolhar.pt
X-WR-CALDESC:Events for Verdadeiro Olhar
BEGIN:VTIMEZONE
TZID:UTC
BEGIN:STANDARD
TZOFFSETFROM:+0000
TZOFFSETTO:+0000
TZNAME:UTC
DTSTART:20170101T000000
END:STANDARD
END:VTIMEZONE
BEGIN:VEVENT
DTSTART;TZID=UTC:20170714T210000
DTEND;TZID=UTC:20170714T223000
DTSTAMP:20260422T075802
CREATED:20170707T112459Z
LAST-MODIFIED:20170710T111627Z
UID:24007-1500066000-1500071400@www.verdadeiroolhar.pt
SUMMARY:Apresentação do livro “Paredenses na Grande Guerra”
DESCRIPTION:Na sexta-feira\, dia 14\, o Salão Nobre da Câmara Municipal de Paredes vai acolher a apresentação do livro «Paredenses na Grande Guerra»\, da autoria de Ivo Rafael Silva\, a partir das 21h00. \nA obra de Ivo Rafael Silva trata-se de um trabalho de investigação sobre a participação de Paredenses na Primeira Guerra Mundial.
URL:https://www.verdadeiroolhar.pt/evento/apresentacao-do-livro-paredenses-na-grande-guerra-no-salao-nobre-do-municipio-paredense/
LOCATION:Salão Nobre da Câmara Municipal de Paredes\, Paredes
CATEGORIES:Eventos Públicos
ATTACH;FMTTYPE=image/jpeg:https://www.verdadeiroolhar.pt/wp-content/uploads/2017/07/Paredenses-na-Grande-Guerra.jpg
END:VEVENT
END:VCALENDAR