BEGIN:VCALENDAR
VERSION:2.0
PRODID:-//Verdadeiro Olhar - ECPv5.8.0//NONSGML v1.0//EN
CALSCALE:GREGORIAN
METHOD:PUBLISH
X-WR-CALNAME:Verdadeiro Olhar
X-ORIGINAL-URL:https://www.verdadeiroolhar.pt
X-WR-CALDESC:Events for Verdadeiro Olhar
BEGIN:VTIMEZONE
TZID:UTC
BEGIN:STANDARD
TZOFFSETFROM:+0000
TZOFFSETTO:+0000
TZNAME:UTC
DTSTART:20150101T000000
END:STANDARD
END:VTIMEZONE
BEGIN:VEVENT
DTSTART;TZID=UTC:20151119T143000
DTEND;TZID=UTC:20151119T163000
DTSTAMP:20260421T090835
CREATED:20151109T155254Z
LAST-MODIFIED:20151109T155839Z
UID:1751-1447943400-1447950600@www.verdadeiroolhar.pt
SUMMARY:Apresentação do Livro "Orlando - O Caracol Apaixonado"
DESCRIPTION:Apresentação pelo escritor Sérgio Mendes \nCom esta obra\, Sérgio Mendes sagrou-se vencedor da 2.ª edição do Prémio de Literatura Infantil do Pingo Doce 2015\, na categoria texto.
URL:https://www.verdadeiroolhar.pt/evento/apresentacao-do-livro-orlando-o-caracol-apaixonado/
LOCATION:Biblioteca Municipal de Penafiel\, Avenida Egas Moniz\, Penafiel\, Portugal
CATEGORIES:Cultura
END:VEVENT
END:VCALENDAR