BEGIN:VCALENDAR
VERSION:2.0
PRODID:-//Verdadeiro Olhar - ECPv5.8.0//NONSGML v1.0//EN
CALSCALE:GREGORIAN
METHOD:PUBLISH
X-WR-CALNAME:Verdadeiro Olhar
X-ORIGINAL-URL:https://www.verdadeiroolhar.pt
X-WR-CALDESC:Events for Verdadeiro Olhar
BEGIN:VTIMEZONE
TZID:UTC
BEGIN:STANDARD
TZOFFSETFROM:+0000
TZOFFSETTO:+0000
TZNAME:UTC
DTSTART:20160101T000000
END:STANDARD
END:VTIMEZONE
BEGIN:VEVENT
DTSTART;TZID=UTC:20160624T213000
DTEND;TZID=UTC:20160624T230000
DTSTAMP:20260421T143934
CREATED:20160613T112159Z
LAST-MODIFIED:20160613T112159Z
UID:9990-1466803800-1466809200@www.verdadeiroolhar.pt
SUMMARY:Apresentação do livro "Morrer na Luz" de Conceição Brandão
DESCRIPTION:Na sexta-feira\, dia 24\, a Biblioteca Municipal de Penafiel vai receber\, a partir da 21h30\, a apresentação do livro de poesia “Morrer na Luz” de Conceição Brandão. \n  \n  \n 
URL:https://www.verdadeiroolhar.pt/evento/apresentacao-do-livro-morrer-na-luz-conceicao-brandao/
LOCATION:Biblioteca Municipal de Penafiel\, Avenida Egas Moniz\, Penafiel\, Portugal
CATEGORIES:Cultura
ATTACH;FMTTYPE=image/png:https://www.verdadeiroolhar.pt/wp-content/uploads/2016/06/MorrerNaLuz-1.png
END:VEVENT
END:VCALENDAR