BEGIN:VCALENDAR
VERSION:2.0
PRODID:-//Verdadeiro Olhar - ECPv5.8.0//NONSGML v1.0//EN
CALSCALE:GREGORIAN
METHOD:PUBLISH
X-WR-CALNAME:Verdadeiro Olhar
X-ORIGINAL-URL:https://www.verdadeiroolhar.pt
X-WR-CALDESC:Events for Verdadeiro Olhar
BEGIN:VTIMEZONE
TZID:UTC
BEGIN:STANDARD
TZOFFSETFROM:+0000
TZOFFSETTO:+0000
TZNAME:UTC
DTSTART:20170101T000000
END:STANDARD
END:VTIMEZONE
BEGIN:VEVENT
DTSTART;TZID=UTC:20170526T213000
DTEND;TZID=UTC:20170526T233000
DTSTAMP:20260421T094404
CREATED:20170511T140817Z
LAST-MODIFIED:20170511T140817Z
UID:20861-1495834200-1495841400@www.verdadeiroolhar.pt
SUMMARY:Apresentação do livro "Folhas de Outono"
DESCRIPTION:O livro “Folhas de Outono”\, da autoria de alunos e professores da Universidade Sénior do Rotary de Valongo\, vai ser apresentado ao público no próximo dia 26 de Maio\, pelas 21h00\, no Auditório Dr. António Macedo (CCC Vallis Longus).
URL:https://www.verdadeiroolhar.pt/evento/apresentacao-do-livro-folhas-outono/
LOCATION:Auditório Dr. António Macedo\, Valongo
CATEGORIES:Cultura
END:VEVENT
END:VCALENDAR