BEGIN:VCALENDAR
VERSION:2.0
PRODID:-//Verdadeiro Olhar - ECPv5.8.0//NONSGML v1.0//EN
CALSCALE:GREGORIAN
METHOD:PUBLISH
X-WR-CALNAME:Verdadeiro Olhar
X-ORIGINAL-URL:https://www.verdadeiroolhar.pt
X-WR-CALDESC:Events for Verdadeiro Olhar
BEGIN:VTIMEZONE
TZID:UTC
BEGIN:STANDARD
TZOFFSETFROM:+0000
TZOFFSETTO:+0000
TZNAME:UTC
DTSTART:20160101T000000
END:STANDARD
END:VTIMEZONE
BEGIN:VEVENT
DTSTART;TZID=UTC:20160917T160000
DTEND;TZID=UTC:20160917T180000
DTSTAMP:20260424T200901
CREATED:20160906T171834Z
LAST-MODIFIED:20160906T171834Z
UID:12941-1474128000-1474135200@www.verdadeiroolhar.pt
SUMMARY:Apresentação do Livro "Quem Tem Coragem?" na Biblioteca de Penafiel
DESCRIPTION:A 17 de Setembro\,  pelas 16h00\, a Biblioteca Municipal de Penafiel recebe a apresentação do livro “Quem Tem Coragem?”\, de José Canita.\nTrata-se de um guia prático de orientação pessoal e profissional.
URL:https://www.verdadeiroolhar.pt/evento/apresentacao-do-livro-coragem-na-biblioteca-penafiel/
LOCATION:Biblioteca Municipal de Penafiel\, Avenida Egas Moniz\, Penafiel\, Portugal
CATEGORIES:Cultura
ATTACH;FMTTYPE=image/png:https://www.verdadeiroolhar.pt/wp-content/uploads/2016/09/LivroQuemTemCoragem.png
END:VEVENT
END:VCALENDAR