BEGIN:VCALENDAR
VERSION:2.0
PRODID:-//Verdadeiro Olhar - ECPv5.8.0//NONSGML v1.0//EN
CALSCALE:GREGORIAN
METHOD:PUBLISH
X-WR-CALNAME:Verdadeiro Olhar
X-ORIGINAL-URL:https://www.verdadeiroolhar.pt
X-WR-CALDESC:Events for Verdadeiro Olhar
BEGIN:VTIMEZONE
TZID:UTC
BEGIN:STANDARD
TZOFFSETFROM:+0000
TZOFFSETTO:+0000
TZNAME:UTC
DTSTART:20170101T000000
END:STANDARD
END:VTIMEZONE
BEGIN:VEVENT
DTSTART;TZID=UTC:20170822T220000
DTEND;TZID=UTC:20170822T233000
DTSTAMP:20260422T073436
CREATED:20170605T172029Z
LAST-MODIFIED:20170816T143959Z
UID:22136-1503439200-1503444600@www.verdadeiroolhar.pt
SUMMARY:Ana Moura na Agrival 2017
DESCRIPTION:Foto: DR\nAna Moura será a artista que sobe ao palco principal da Agrival no dia 22 de Agosto. \nPrograma: \nDia do Concelho de Paredes \n15h00 Abertura \nPalco 2\n16h00 Concurso “Broa de Milho”\, com a colaboração de Técnicos da Direção Regional de Agricultura\n17h00 Concurso “Pão-de-Ló”\n21h00 Grupo de Cavaquinhos de S. Miguel de Paredes\n22h00 Atuação da Banda “Oletsub”\n23h00 Grupo de Zumba A.R.  Novelense  – ASSCD Rans \n00h00 Dj Residente Miguel Tika | Dj Convidado: Arpi \nPalco 1\n22h00 Grupo de Guitarras de Penafiel\n22h30 Concerto de Ana Moura \n24h00 Encerramento \n16.ª Mostra Nacional de Gastronomia > 12h00 à 01h30\n(entrada livre para a praça de gastronomia de 2.ª a 6.ª feira entre as 12h00 e as 14h00)
URL:https://www.verdadeiroolhar.pt/evento/ana-moura-na-agrival-2017/
LOCATION:Penafiel
CATEGORIES:Eventos Públicos
ATTACH;FMTTYPE=image/jpeg:https://www.verdadeiroolhar.pt/wp-content/uploads/2017/06/ana-moura.jpg
END:VEVENT
END:VCALENDAR