BEGIN:VCALENDAR
VERSION:2.0
PRODID:-//Verdadeiro Olhar - ECPv5.8.0//NONSGML v1.0//EN
CALSCALE:GREGORIAN
METHOD:PUBLISH
X-WR-CALNAME:Verdadeiro Olhar
X-ORIGINAL-URL:https://www.verdadeiroolhar.pt
X-WR-CALDESC:Events for Verdadeiro Olhar
BEGIN:VTIMEZONE
TZID:UTC
BEGIN:STANDARD
TZOFFSETFROM:+0000
TZOFFSETTO:+0000
TZNAME:UTC
DTSTART:20170101T000000
END:STANDARD
END:VTIMEZONE
BEGIN:VEVENT
DTSTART;VALUE=DATE:20170708
DTEND;VALUE=DATE:20170709
DTSTAMP:20260421T202439
CREATED:20170523T091404Z
LAST-MODIFIED:20170523T091404Z
UID:21404-1499472000-1499558399@www.verdadeiroolhar.pt
SUMMARY:Amor Electro em Rio de Moinhos
DESCRIPTION:Rio de Moinhos\, em Penafiel\, vai receber no próximo dia 8 de Julho os Amor Electro para um concerto\, pelas 22h00.
URL:https://www.verdadeiroolhar.pt/evento/amor-electro-em-rio-de-moinhos/
LOCATION:Rio de Moinhos\, Penafiel\, 4560\, Portugal
CATEGORIES:Eventos Públicos
ATTACH;FMTTYPE=image/jpeg:https://www.verdadeiroolhar.pt/wp-content/uploads/2017/05/Amor-Electro.jpg
END:VEVENT
END:VCALENDAR