BEGIN:VCALENDAR
VERSION:2.0
PRODID:-//Verdadeiro Olhar - ECPv5.8.0//NONSGML v1.0//EN
CALSCALE:GREGORIAN
METHOD:PUBLISH
X-WR-CALNAME:Verdadeiro Olhar
X-ORIGINAL-URL:https://www.verdadeiroolhar.pt
X-WR-CALDESC:Events for Verdadeiro Olhar
BEGIN:VTIMEZONE
TZID:UTC
BEGIN:STANDARD
TZOFFSETFROM:+0000
TZOFFSETTO:+0000
TZNAME:UTC
DTSTART:20180101T000000
END:STANDARD
END:VTIMEZONE
BEGIN:VEVENT
DTSTART;TZID=UTC:20180519T213000
DTEND;TZID=UTC:20180519T233000
DTSTAMP:20260425T015503
CREATED:20180515T165852Z
LAST-MODIFIED:20180515T165852Z
UID:41008-1526765400-1526772600@www.verdadeiroolhar.pt
SUMMARY:"AMÉLIA2k27" na Biblioteca de Paços de Ferreira
DESCRIPTION:A peça de teatro “AMÉLIA2k27” será levada a cena\, no próximo dia 19 de Maio\, pelas 21h30\, no Auditório da Biblioteca Municipal de Paços de Ferreira.\n\n“AMÉLIA2k27” é um espectáculo da autoria de Carolina Mendes e Isabel Amorim\, encenada pelos formandos da Oficina de Teatro “ATREVE-TE!”\, promovida pela ADATERRA.\nA estreia aconteceu no dia 6 de Maio e contou com a presença de mais de 200 pessoas.\n\nO espectáculo agendado para o próximo dia 19 de Maio tem entrada livre e resulta de um protocolo entre a ADATERRA e o pelouro da Cultura da Câmara Municipal de Paços de Ferreira.
URL:https://www.verdadeiroolhar.pt/evento/amelia2k27-na-biblioteca-pacos-ferreira/
LOCATION:Biblioteca Municipal de Paços de Ferreira\, Rua Rainha Dona Leonor\, Paços de Ferreira \, 4590-612
CATEGORIES:Cultura
ATTACH;FMTTYPE=image/jpeg:https://www.verdadeiroolhar.pt/wp-content/uploads/2018/05/Teatro-Amélia-01-2.jpg
END:VEVENT
END:VCALENDAR