BEGIN:VCALENDAR
VERSION:2.0
PRODID:-//Verdadeiro Olhar - ECPv5.8.0//NONSGML v1.0//EN
CALSCALE:GREGORIAN
METHOD:PUBLISH
X-WR-CALNAME:Verdadeiro Olhar
X-ORIGINAL-URL:https://www.verdadeiroolhar.pt
X-WR-CALDESC:Events for Verdadeiro Olhar
BEGIN:VTIMEZONE
TZID:UTC
BEGIN:STANDARD
TZOFFSETFROM:+0000
TZOFFSETTO:+0000
TZNAME:UTC
DTSTART:20170101T000000
END:STANDARD
END:VTIMEZONE
BEGIN:VEVENT
DTSTART;TZID=UTC:20170827T120000
DTEND;TZID=UTC:20170827T200000
DTSTAMP:20260421T194833
CREATED:20170816T140957Z
LAST-MODIFIED:20170821T175149Z
UID:26011-1503835200-1503864000@www.verdadeiroolhar.pt
SUMMARY:Almoço na Relva 2017 em Paredes
DESCRIPTION:A Câmara Municipal de Paredes organiza\, a 27 de Agosto\, a partir das 12h00\, mais um Almoço na Relva\, no Parque da Cidade de Paredes. \nO objectivo é juntar as famílias num piquenique. \nA partir das 15h00 e até às 20h00\, haverá animação musical da Rádio Ritmos com artistas como Conjunto Novo Dia\, Pedro Vieira\, Paulo Fernandes\, Maria Leal\, Zé Cabra\, Saúl\, Jorge Amado\, Nel Monteiro\, Manu\, Beatriz Silva e Paula Soares.
URL:https://www.verdadeiroolhar.pt/evento/almoco-na-relva-2017-em-paredes/
LOCATION:Parque da Cidade de Paredes\, Paredes
CATEGORIES:Eventos Públicos
ATTACH;FMTTYPE=image/png:https://www.verdadeiroolhar.pt/wp-content/uploads/2017/08/cartaz_Almo_o_na_Relva_2017_1_1024_2500.png
END:VEVENT
END:VCALENDAR