BEGIN:VCALENDAR
VERSION:2.0
PRODID:-//Verdadeiro Olhar - ECPv5.8.0//NONSGML v1.0//EN
CALSCALE:GREGORIAN
METHOD:PUBLISH
X-WR-CALNAME:Verdadeiro Olhar
X-ORIGINAL-URL:https://www.verdadeiroolhar.pt
X-WR-CALDESC:Events for Verdadeiro Olhar
BEGIN:VTIMEZONE
TZID:UTC
BEGIN:STANDARD
TZOFFSETFROM:+0000
TZOFFSETTO:+0000
TZNAME:UTC
DTSTART:20170101T000000
END:STANDARD
END:VTIMEZONE
BEGIN:VEVENT
DTSTART;TZID=UTC:20170902T213000
DTEND;TZID=UTC:20170902T230000
DTSTAMP:20260421T133429
CREATED:20170828T102411Z
LAST-MODIFIED:20170828T102411Z
UID:26364-1504387800-1504393200@www.verdadeiroolhar.pt
SUMMARY:Alice no País das Armadilhas em Caíde de Rei
DESCRIPTION:No dia 2 de Setembro\, pelas 21h30\, o Teatro da Linha 5 leva a cena a peça “Alice no País das Armadilhas”\, criada no âmbito do Biofest 2017\, na Casa de Vila Verde\, em Caíde de Rei\, Lousada. \nA entrada é gratuita.
URL:https://www.verdadeiroolhar.pt/evento/alice-no-pais-das-armadilhas-caide-rei/
LOCATION:Caíde de Rei\, Caíde de Rei\, Lousada
CATEGORIES:Cultura
ATTACH;FMTTYPE=image/png:https://www.verdadeiroolhar.pt/wp-content/uploads/2017/08/cartaz_alice_caíde.png
END:VEVENT
END:VCALENDAR