BEGIN:VCALENDAR
VERSION:2.0
PRODID:-//Verdadeiro Olhar - ECPv5.8.0//NONSGML v1.0//EN
CALSCALE:GREGORIAN
METHOD:PUBLISH
X-WR-CALNAME:Verdadeiro Olhar
X-ORIGINAL-URL:https://www.verdadeiroolhar.pt
X-WR-CALDESC:Events for Verdadeiro Olhar
BEGIN:VTIMEZONE
TZID:UTC
BEGIN:STANDARD
TZOFFSETFROM:+0000
TZOFFSETTO:+0000
TZNAME:UTC
DTSTART:20160101T000000
END:STANDARD
END:VTIMEZONE
BEGIN:VEVENT
DTSTART;TZID=UTC:20160828T100000
DTEND;TZID=UTC:20160829T000000
DTSTAMP:20260424T021637
CREATED:20160808T144919Z
LAST-MODIFIED:20160808T144919Z
UID:12240-1472378400-1472428800@www.verdadeiroolhar.pt
SUMMARY:Agrival 2016: Espectáculo Piromusical
DESCRIPTION:Agrival 2016: 37.ª Feira Agrícola do Vale do Sousa \nDia do Concelho de Paços de Ferreira    \n09h00 Passeio BTT Agrival/Decathlon \n10h00 Abertura \n15h00 Desfile de Tractores com Alfaias Agrícolas (Concentração no Largo Conde Torres Novas)\nPalco Intermarché\n16h00 Grupo “Foles e Folias de Penafiel”\n17h00 Rancho Folclórico Associação Cultural Recreativa S. Martinho de Mancelos\n18h00 Rancho Folclórico S. Pedro da Bela Vista – Galegos\n19h00 Grupo de Cantares da Associação para o Desenvolvimento da Portela\n20h00 Grupo de Cavaquinhos de Lagares\n21h00 Grupo de Cavaquinhos “Os Amigos de S. Martinho”\n22h00 Grupo Folclórico de Penafiel\n23h00 Banda “Oletsub”\n00h30 Dj Residente: Miguel Tika \nPalco McDonald’s Penafiel\n21h30 Concurso Miss Agrival\n24h00 Espectáculo Piromusical (Produção GJR Pirotecnia\, SA) \nEncerramento da Agrival 2016 \nDurante todo o certame pode visitar a 15.ª Mostra Nacional de Gastronomia\, entre as 12h00 e a 1h30. A entrada é livre\, para a praça de gastronomia\, de 2.ª a 6.ª feira entre as 12h00 e as 14h00.
URL:https://www.verdadeiroolhar.pt/evento/agrival-2016-espectaculo-piromusical/
LOCATION:Pavilhão de Feiras e Exposições\, Rua D. António Ferreira Gomes\, Penafiel\, 4560-568
CATEGORIES:Cultura,Eventos Públicos
ATTACH;FMTTYPE=image/jpeg:https://www.verdadeiroolhar.pt/wp-content/uploads/2016/08/agrival.jpg
END:VEVENT
END:VCALENDAR