BEGIN:VCALENDAR
VERSION:2.0
PRODID:-//Verdadeiro Olhar - ECPv5.8.0//NONSGML v1.0//EN
CALSCALE:GREGORIAN
METHOD:PUBLISH
X-WR-CALNAME:Verdadeiro Olhar
X-ORIGINAL-URL:https://www.verdadeiroolhar.pt
X-WR-CALDESC:Events for Verdadeiro Olhar
BEGIN:VTIMEZONE
TZID:UTC
BEGIN:STANDARD
TZOFFSETFROM:+0000
TZOFFSETTO:+0000
TZNAME:UTC
DTSTART:20150101T000000
END:STANDARD
END:VTIMEZONE
BEGIN:VEVENT
DTSTART;TZID=UTC:20151203T103000
DTEND;TZID=UTC:20151203T120000
DTSTAMP:20260422T074018
CREATED:20151123T162353Z
LAST-MODIFIED:20151123T162353Z
UID:2231-1449138600-1449144000@www.verdadeiroolhar.pt
SUMMARY:"A Maior flor do Mundo"  em Alfena
DESCRIPTION:“A Maior Flor do Mundo”\, dramatizada pelos alunos do 1º Ciclo do Novo Colégio de Valongo\, com o apoio da Associação EDUCASOM realizar-se-á nos dias 3\, 10 e 15 de Dezembro pelas 10h30 no Centro Cultural de Alfena.
URL:https://www.verdadeiroolhar.pt/evento/a-maior-flor-do-mundo/
LOCATION:Centro Cultural de Alfena\, Rua de S. Vicente \, Valongo\, 4445-210
CATEGORIES:Cultura
END:VEVENT
END:VCALENDAR