BEGIN:VCALENDAR
VERSION:2.0
PRODID:-//Verdadeiro Olhar - ECPv5.8.0//NONSGML v1.0//EN
CALSCALE:GREGORIAN
METHOD:PUBLISH
X-WR-CALNAME:Verdadeiro Olhar
X-ORIGINAL-URL:https://www.verdadeiroolhar.pt
X-WR-CALDESC:Events for Verdadeiro Olhar
BEGIN:VTIMEZONE
TZID:UTC
BEGIN:STANDARD
TZOFFSETFROM:+0000
TZOFFSETTO:+0000
TZNAME:UTC
DTSTART:20180101T000000
END:STANDARD
END:VTIMEZONE
BEGIN:VEVENT
DTSTART;TZID=UTC:20180106T200000
DTEND;TZID=UTC:20180106T230000
DTSTAMP:20260423T013738
CREATED:20171204T122106Z
LAST-MODIFIED:20171204T122106Z
UID:31779-1515268800-1515279600@www.verdadeiroolhar.pt
SUMMARY:5ª Corrida dos Reis da Cidade de Paredes
DESCRIPTION:No dia 6 de Janeiro\, pelas 20h00\, Paredes recebe a 5.ª Corrida dos Reis da Cidade de Paredes. \nA iniciativa é organizada pela Parjovem – Associação Juvenil de Paredes e irá decorrer no centro da cidade. \n“Se é um amante do desporto\, mais propriamente de corridas e caminhadas\, esta é a oportunidade para praticar com a família e amigos\, numa zona de referência da cidade”\, desafia a organização. \nA prova divide-se numa Corrida de 10 quilómetros e numa Caminhada de 5 quilómetros\, com início na Praça José Guilherme. \nAs inscrições já estão a decorrer. Pode encontrar mais informações aqui. \n 
URL:https://www.verdadeiroolhar.pt/evento/5a-corrida-dos-reis-da-cidade-paredes/
LOCATION:Praça José Guilherme\, Paredes
CATEGORIES:Desporto,Eventos Públicos
ATTACH;FMTTYPE=image/jpeg:https://www.verdadeiroolhar.pt/wp-content/uploads/2017/12/Corrida-Reis.jpg
END:VEVENT
END:VCALENDAR