BEGIN:VCALENDAR
VERSION:2.0
PRODID:-//Verdadeiro Olhar - ECPv5.8.0//NONSGML v1.0//EN
CALSCALE:GREGORIAN
METHOD:PUBLISH
X-WR-CALNAME:Verdadeiro Olhar
X-ORIGINAL-URL:https://www.verdadeiroolhar.pt
X-WR-CALDESC:Events for Verdadeiro Olhar
BEGIN:VTIMEZONE
TZID:UTC
BEGIN:STANDARD
TZOFFSETFROM:+0000
TZOFFSETTO:+0000
TZNAME:UTC
DTSTART:20170101T000000
END:STANDARD
END:VTIMEZONE
BEGIN:VEVENT
DTSTART;TZID=UTC:20170720T090000
DTEND;TZID=UTC:20170822T173000
DTSTAMP:20260422T170354
CREATED:20170703T102201Z
LAST-MODIFIED:20170719T110246Z
UID:23702-1500541200-1503423000@www.verdadeiroolhar.pt
SUMMARY:Exposição dos 50 anos do Hóquei em Campo em Lousada
DESCRIPTION:O Espaço AJE\, em Lousada\, vai acolher\, de 20 de Julho a 22 de Agosto\, uma exposição sobre os 50 anos de hóquei. \nA iniciativa conta com a colaboração dos clubes existentes no concelho e de várias pessoas que integraram as primeiras equipas\, pretendendo dar a conhecer os vários momentos desta modalidade tão enraizada em Lousada\, passando de geração em geração. \nA Câmara Municipal vai inaugurar a exposição no dia 20 de Julho\, quinta-feira\, pelas 18h00\, no Espaço AJE. \nA mostra pode ser visitada até dia 22 de Agosto\, das 9h00 e as 12h30 e das 14h00 às 17h30.
URL:https://www.verdadeiroolhar.pt/evento/50-anos-hoquei-exposicao-no-espaco-aje/
LOCATION:Espaço AJE\, Rua dos Bombeiros Voluntários de Lousada\, Portugal
CATEGORIES:Desporto,Eventos Públicos
ATTACH;FMTTYPE=image/jpeg:https://www.verdadeiroolhar.pt/wp-content/uploads/2017/07/Exposição-de-Hoquei.jpg
END:VEVENT
END:VCALENDAR