BEGIN:VCALENDAR
VERSION:2.0
PRODID:-//Verdadeiro Olhar - ECPv5.8.0//NONSGML v1.0//EN
CALSCALE:GREGORIAN
METHOD:PUBLISH
X-WR-CALNAME:Verdadeiro Olhar
X-ORIGINAL-URL:https://www.verdadeiroolhar.pt
X-WR-CALDESC:Events for Verdadeiro Olhar
BEGIN:VTIMEZONE
TZID:UTC
BEGIN:STANDARD
TZOFFSETFROM:+0000
TZOFFSETTO:+0000
TZNAME:UTC
DTSTART:20180101T000000
END:STANDARD
END:VTIMEZONE
BEGIN:VEVENT
DTSTART;TZID=UTC:20180429T100000
DTEND;TZID=UTC:20180429T130000
DTSTAMP:20260424T133110
CREATED:20180410T111253Z
LAST-MODIFIED:20180410T111253Z
UID:38673-1524996000-1525006800@www.verdadeiroolhar.pt
SUMMARY:4.ª Caminhada Trilho dos Moinhos em Aguiar de Sousa
DESCRIPTION:A Associação de Canoagem do Vale do Sousa vai dinamizar\, no próximo dia 29 de Abril\,  a sua quarta caminhada. O Trilho dos Moinhos\, de cerca de 8 quilómetros de trajecto fácil/moderado\, terá início às 10h00\, no Parque da Senhora do Salto\, em Aguiar de Sousa\, Paredes. \nSegundo a organização\, a caminhada “será realizada por trilhos e caminhos nos montes da freguesia de Aguiar de Sousa\, estando o percurso devidamente marcado. Tem como intuito a promoção ambiental desta região e a prática da actividade física em meio natural”. \nQuer os menores quer os participantes acima dos 70 anos devem ser acompanhados. \nAs inscrições para a caminhada poderão ser feitas até ás 9h30 de 29 Abril no local da partida. O custo é de três euros com direito a reforço. \nA inscrição pode ser feita aqui.
URL:https://www.verdadeiroolhar.pt/evento/4-caminhada-trilho-dos-moinhos-aguiar-sousa/
LOCATION:Aguiar de Sousa\, Aguiar de Sousa\, Paredes
CATEGORIES:Desporto,Eventos Públicos
ATTACH;FMTTYPE=image/jpeg:https://www.verdadeiroolhar.pt/wp-content/uploads/2018/04/Trilho-dos-Moinhos.jpg
END:VEVENT
END:VCALENDAR