BEGIN:VCALENDAR
VERSION:2.0
PRODID:-//Verdadeiro Olhar - ECPv5.8.0//NONSGML v1.0//EN
CALSCALE:GREGORIAN
METHOD:PUBLISH
X-WR-CALNAME:Verdadeiro Olhar
X-ORIGINAL-URL:https://www.verdadeiroolhar.pt
X-WR-CALDESC:Events for Verdadeiro Olhar
BEGIN:VTIMEZONE
TZID:UTC
BEGIN:STANDARD
TZOFFSETFROM:+0000
TZOFFSETTO:+0000
TZNAME:UTC
DTSTART:20180101T000000
END:STANDARD
END:VTIMEZONE
BEGIN:VEVENT
DTSTART;TZID=UTC:20180317T150000
DTEND;TZID=UTC:20180317T180000
DTSTAMP:20260422T085729
CREATED:20180221T151456Z
LAST-MODIFIED:20180221T151456Z
UID:35582-1521298800-1521309600@www.verdadeiroolhar.pt
SUMMARY:3H de Resistência BTT de Figueiras - Lousada
DESCRIPTION:As 3H de Resistência BTT de Figueiras\, em Lousada\, decorre a 17 de Março. \nA organização é da A. D. C. Figueiras BTT. Há prémios para os vencedores da geral masculina e feminino na competição individual\, e para os vencedores em masculinos\, femininos e equipas mistas na prova de duplas. \nA prova começa pelas 15h00. \nPode inscrever-se aqui.
URL:https://www.verdadeiroolhar.pt/evento/3h-resistencia-btt-figueiras-lousada/
LOCATION:Figueiras\, Figueiras\, Lousada
CATEGORIES:Desporto
ATTACH;FMTTYPE=image/jpeg:https://www.verdadeiroolhar.pt/wp-content/uploads/2018/02/BTT-RESISTENCIA-3H-FIGUEIRAS.jpg
END:VEVENT
END:VCALENDAR