BEGIN:VCALENDAR
VERSION:2.0
PRODID:-//Verdadeiro Olhar - ECPv5.8.0//NONSGML v1.0//EN
CALSCALE:GREGORIAN
METHOD:PUBLISH
X-WR-CALNAME:Verdadeiro Olhar
X-ORIGINAL-URL:https://www.verdadeiroolhar.pt
X-WR-CALDESC:Events for Verdadeiro Olhar
BEGIN:VTIMEZONE
TZID:UTC
BEGIN:STANDARD
TZOFFSETFROM:+0000
TZOFFSETTO:+0000
TZNAME:UTC
DTSTART:20170101T000000
END:STANDARD
END:VTIMEZONE
BEGIN:VEVENT
DTSTART;TZID=UTC:20170805T180000
DTEND;TZID=UTC:20170805T233000
DTSTAMP:20260422T173800
CREATED:20170721T150126Z
LAST-MODIFIED:20170721T150126Z
UID:24881-1501956000-1501975800@www.verdadeiroolhar.pt
SUMMARY:35.º Festival de Folclore de Abragão
DESCRIPTION:O Rancho Folclórico do Centro Social e Cultural de Abragão organiza\, a 5 de Agosto\, o 35.º Festival de Folclore\, no anfiteatro de Santa Mafalda. O tema é “Da lavoira ao vinho… do pobre ao rico”. \nPelas 18h00\, decorrerá a recepção aos grupos convidados\, seguindo-se um jantar convívio\, aberto à população mas que exige inscrição prévia. Às 21h00 realiza-se o desfile. Meia hora mais tarde começam as actuações do Rancho Folclórico do Centro Social e Cultural de Abragão (Penafiel)\, do Rancho Típico da Palheira (Coimbra)\, do Rancho Folclórico São Salvador de Árvore (Vila do Conde)\, do Folkloren Ansambl KITKA Istibanja (Macedónia) e do Fen Bladi (Argélia).
URL:https://www.verdadeiroolhar.pt/evento/35-festival-folclore-abragao/
LOCATION:Abragão\, Anfiteatro de Santa Mafalda\, Penafiel
CATEGORIES:Eventos Públicos
ATTACH;FMTTYPE=image/jpeg:https://www.verdadeiroolhar.pt/wp-content/uploads/2017/07/Rancho-Abragão.jpg
END:VEVENT
END:VCALENDAR